0.5
0
0
-0.5
638544.126268117
4711393.96015066
