0.5
0
0
-0.5
573626.25230498
4701133.32203688
