0.5
0
0
-0.5
580506.449812179
4698897.64275924
