0.5
0
0
-0.5
594216.925725191
4699072.76207561
