0.5
0
0
-0.5
597644.52560509
4699120.70650566
