0.5
0
0
-0.5
594280.425129624
4694446.43022696
