0.5
0
0
-0.5
624939.704314878
4706504.65627286
