0.5
0
0
-0.5
649110.579180427
4697728.34013859
