0.5
0
0
-0.5
584075.697897239
4687373.17776952
