0.5
0
0
-0.5
614975.475202087
4687819.72642111
