0.5
0
0
-0.5
615052.49364557
4683193.3575497
