0.5
0
0
-0.5
594470.627273402
4680567.54845347
