0.5
0
0
-0.5
608217.496621246
4680769.26974323
