0.5
0
0
-0.5
604815.811084197
4678403.20381244
