0.5
0
0
-0.5
608289.856634128
4676142.96841505
