0.5
0
0
-0.5
608362.169130938
4671516.69545083
