0.5
0
0
-0.5
591338.402491531
4657390.29052039
