0.5
0
0
-0.5
594691.874784413
4664375.72352981
