0.5
0
0
-0.5
615359.85967775
4664688.23857712
