0.5
0
0
-0.5
594786.501817151
4657436.43853043
