1
0
0
-1
668158.667883379
4758452.05140782
