1
0
0
-1
552682.615642732
4742653.71572694
