1
0
0
-1
559622.842272706
4728832.05931031
