1
0
0
-1
593691.605323863
4733854.14073848
