1
0
0
-1
552946.119130843
4710267.3630245
