1
0
0
-1
587171.210722326
4710628.73606775
