1
0
0
-1
621147.236034119
4725038.96796251
