1
0
0
-1
614864.566841184
4692533.6927458
