1
0
0
-1
621727.914301873
4692653.07927037
