1
0
0
-1
594789.744443157
4655205.97722993
