1
0
0
-1
636095.82800098
4660527.44321259
