1
0
0
-1
599884.531539869
4775595.60581134
