2.5
0
0
-2.5
633968.635664738
4762519.43187077
