2.5
0
0
-2.5
566683.600842715
4696686.17748926
