2.5
0
0
-2.5
636231.190864083
4651482.48732514
