0.5
0
0
-0.5
579822.038708759
4756730.70893477
