0.5
0
0
-0.5
593386.377875856
4759219.13617327
