0.5
0
0
-0.5
600285.568061049
4752376.50894346
