0.5
0
0
-0.5
607088.332223462
4752480.95257662
