0.5
0
0
-0.5
624180.193416155
4748144.67705388
