0.5
0
0
-0.5
648057.449633564
4746308.94617974
