0.5
0
0
-0.5
569913.293070524
4728856.32826059
