0.5
0
0
-0.5
576765.097855242
4726617.03712798
