0.5
0
0
-0.5
610640.809928761
4743281.99362201
