0.5
0
0
-0.5
614124.505940177
4738711.68350593
