0.5
0
0
-0.5
597248.704975692
4726879.63329271
