0.5
0
0
-0.5
607490.643684314
4727033.79274504
