0.5
0
0
-0.5
627757.895580183
4738954.37573641
