0.5
0
0
-0.5
621146.664217783
4727262.98446262
