0.5
0
0
-0.5
662061.564251809
4730425.7640024
